BEGIN:VCALENDAR
VERSION:2.0
PRODID:-//Poultney Downtown Revitalization Committee - ECPv6.15.19//NONSGML v1.0//EN
CALSCALE:GREGORIAN
METHOD:PUBLISH
X-WR-CALNAME:Poultney Downtown Revitalization Committee
X-ORIGINAL-URL:https://poultneydowntown.com
X-WR-CALDESC:Events for Poultney Downtown Revitalization Committee
REFRESH-INTERVAL;VALUE=DURATION:PT1H
X-Robots-Tag:noindex
X-PUBLISHED-TTL:PT1H
BEGIN:VTIMEZONE
TZID:America/New_York
BEGIN:DAYLIGHT
TZOFFSETFROM:-0500
TZOFFSETTO:-0400
TZNAME:EDT
DTSTART:20250309T070000
END:DAYLIGHT
BEGIN:STANDARD
TZOFFSETFROM:-0400
TZOFFSETTO:-0500
TZNAME:EST
DTSTART:20251102T060000
END:STANDARD
BEGIN:DAYLIGHT
TZOFFSETFROM:-0500
TZOFFSETTO:-0400
TZNAME:EDT
DTSTART:20260308T070000
END:DAYLIGHT
BEGIN:STANDARD
TZOFFSETFROM:-0400
TZOFFSETTO:-0500
TZNAME:EST
DTSTART:20261101T060000
END:STANDARD
BEGIN:DAYLIGHT
TZOFFSETFROM:-0500
TZOFFSETTO:-0400
TZNAME:EDT
DTSTART:20270314T070000
END:DAYLIGHT
BEGIN:STANDARD
TZOFFSETFROM:-0400
TZOFFSETTO:-0500
TZNAME:EST
DTSTART:20271107T060000
END:STANDARD
END:VTIMEZONE
BEGIN:VEVENT
DTSTART;TZID=America/New_York:20260321T100000
DTEND;TZID=America/New_York:20260321T140000
DTSTAMP:20260424T154554
CREATED:20260307T125249Z
LAST-MODIFIED:20260307T125249Z
UID:10000054-1774087200-1774101600@poultneydowntown.com
SUMMARY:Baked Goods & Lunch - United Baptist Church
DESCRIPTION:Join us at United Baptist Church of Poultney (On the East Poultney Green) from 10 am until 2 pm for wonderful Maple Treats! We’d love to share hot coffee\, chocolate and tea with Maple Cinnamon Rolls for breakfast from 10-11am. \nFor lunch 11 am until 2 pm (or until we sell out) we’ll be offering LOCAL sausage sandwiches with peppers and onions – – along with many maple treats including Maple Cookies\, Maple Chocolate Delights\, Maple Walnut Fudge\, Maple Pies and much more. Funds are being raised to repaint the exterior of this historic\, beautiful community building. \nPlease stop in on your Maple travels. And\, if you’ll be taking the horse and carriage rides which begin in the church parking lot\, walk on over for a warm drink and great conversation!! Can’t wait to see YOU!!!
URL:https://poultneydowntown.com/event/baked-goods-lunch-united-baptist-church-2/
LOCATION:East Poultney Baptist Church\, 1500 East Main Street\, Poultney\, VT\, 05764\, United States
CATEGORIES:2026 MapleFest,Food
ATTACH;FMTTYPE=image/png:https://poultneydowntown.com/wp-content/uploads/2026/03/Screenshot-2026-03-07-at-6.49.37-AM.png
GEO:43.5255713;-73.2056767
X-APPLE-STRUCTURED-LOCATION;VALUE=URI;X-ADDRESS=East Poultney Baptist Church 1500 East Main Street Poultney VT 05764 United States;X-APPLE-RADIUS=500;X-TITLE=1500 East Main Street:geo:-73.2056767,43.5255713
END:VEVENT
BEGIN:VEVENT
DTSTART;TZID=America/New_York:20260321T100000
DTEND;TZID=America/New_York:20260321T140000
DTSTAMP:20260424T154554
CREATED:20260321T140056Z
LAST-MODIFIED:20260307T124009Z
UID:10000052-1774087200-1774101600@poultneydowntown.com
SUMMARY:Baked Goods & Lunch - United Baptist Church
DESCRIPTION:Join us at United Baptist Church of Poultney (On the East Poultney Green) from 10 am until 2 pm for wonderful Maple Treats! We’d love to share hot coffee\, chocolate and tea with Maple Cinnamon Rolls for breakfast from 10-11am. \nFor lunch 11 am until 2 pm (or until we sell out) we’ll be offering LOCAL sausage sandwiches with peppers and onions – – along with many maple treats including Maple Cookies\, Maple Chocolate Delights\, Maple Walnut Fudge\, Maple Pies and much more. Funds are being raised to repaint the exterior of this historic\, beautiful community building. \nPlease stop in on your Maple travels. And\, if you’ll be taking the horse and carriage rides which begin in the church parking lot\, walk on over for a warm drink and great conversation!! Can’t wait to see YOU!!!
URL:https://poultneydowntown.com/event/baked-goods-lunch-united-baptist-church/
LOCATION:East Poultney Baptist Church\, 1500 East Main Street\, Poultney\, VT\, 05764\, United States
CATEGORIES:2026 MapleFest,Food
ATTACH;FMTTYPE=image/png:https://poultneydowntown.com/wp-content/uploads/2026/03/Screenshot-2026-03-07-at-6.49.37-AM.png
GEO:43.5255713;-73.2056767
X-APPLE-STRUCTURED-LOCATION;VALUE=URI;X-ADDRESS=East Poultney Baptist Church 1500 East Main Street Poultney VT 05764 United States;X-APPLE-RADIUS=500;X-TITLE=1500 East Main Street:geo:-73.2056767,43.5255713
END:VEVENT
BEGIN:VEVENT
DTSTART;TZID=America/New_York:20260321T120000
DTEND;TZID=America/New_York:20260321T170000
DTSTAMP:20260424T154554
CREATED:20260319T111815Z
LAST-MODIFIED:20260319T111915Z
UID:10000059-1774094400-1774112400@poultneydowntown.com
SUMMARY:The Hop Station - Soft Opening
DESCRIPTION:🍻 Soft Opening Alert in Poultney! 🍻 \nWe’re excited to welcome a new spot to town — The Hop Station is opening its doors for a soft opening! \nCome check out their great selection of beer and wine — this is your chance to get an early look 👀 \n✨ Great vibes🍺 Local brews🤝 Community connections \nLet’s give them a warm Poultney welcome and show some love to this exciting new addition to our downtown!
URL:https://poultneydowntown.com/event/the-hop-station-soft-opening/
LOCATION:Hop Station\, 21 Beaman Street\, Poultney\, VT\, 05764
CATEGORIES:2026 MapleFest,Events,Food
ATTACH;FMTTYPE=image/png:https://poultneydowntown.com/wp-content/uploads/2026/03/Screenshot-2026-03-19-at-7.17.40-AM.png
GEO:43.5173567;-73.2330493
X-APPLE-STRUCTURED-LOCATION;VALUE=URI;X-ADDRESS=Hop Station 21 Beaman Street Poultney VT 05764;X-APPLE-RADIUS=500;X-TITLE=21 Beaman Street:geo:-73.2330493,43.5173567
END:VEVENT
BEGIN:VEVENT
DTSTART;TZID=America/New_York:20260321T163000
DTEND;TZID=America/New_York:20260321T183000
DTSTAMP:20260424T154554
CREATED:20250226T190518Z
LAST-MODIFIED:20260307T120738Z
UID:10000043-1774110600-1774117800@poultneydowntown.com
SUMMARY:Community Ham Dinner - MapleFest 2026
DESCRIPTION:Join the fun on Sunday\, March 22nd\, when Young at Heart Senior Center hosts the annual Poultney MapleFest Dinner! The meal includes maple-glazed ham\, potatoes\, vegetables\, dessert\, and beverages.\n\nCost is just $10 for adults\, $5 for kids 12 and under\nDinner will be served from 4:30-6:30pm\nTake-out available that day by calling (802)287-9200.\n\nAll proceeds go to support Young at Heart Senior Center. For more info please call the center (802)287-9200.
URL:https://poultneydowntown.com/event/community-ham-dinner-maplefest-2025/
LOCATION:Young At Heart\, 206 Furnace Street\, Poultney\, VT\, 05764\, United States
CATEGORIES:2026 MapleFest,Food
ATTACH;FMTTYPE=image/png:https://poultneydowntown.com/wp-content/uploads/2025/02/e6bd01a5-3a37-49d3-9327-403228dabe3f.png
ORGANIZER;CN="Young At Heart":MAILTO:yahsc@comcast.net
GEO:43.5156082;-73.2286338
X-APPLE-STRUCTURED-LOCATION;VALUE=URI;X-ADDRESS=Young At Heart 206 Furnace Street Poultney VT 05764 United States;X-APPLE-RADIUS=500;X-TITLE=206 Furnace Street:geo:-73.2286338,43.5156082
END:VEVENT
BEGIN:VEVENT
DTSTART;TZID=America/New_York:20260322T100000
DTEND;TZID=America/New_York:20260322T140000
DTSTAMP:20260424T154554
CREATED:20260320T133406Z
LAST-MODIFIED:20260320T133416Z
UID:10000060-1774173600-1774188000@poultneydowntown.com
SUMMARY:MapleFest - Weekend Brunch at Tasteful Station
DESCRIPTION:This Sunday we are serving Brunch 10-2pm and then dinner will be served 5-8pm.
URL:https://poultneydowntown.com/event/maplefest-weekend-brunch-at-tasteful-station/
LOCATION:Tasteful Station\, 28 Depot Street\, Poultney\, VT\, 05764
CATEGORIES:2026 MapleFest,Food
ATTACH;FMTTYPE=image/png:https://poultneydowntown.com/wp-content/uploads/2026/03/Screenshot-2026-03-20-at-9.30.57-AM.png
GEO:43.5175758;-73.2362634
X-APPLE-STRUCTURED-LOCATION;VALUE=URI;X-ADDRESS=Tasteful Station 28 Depot Street Poultney VT 05764;X-APPLE-RADIUS=500;X-TITLE=28 Depot Street:geo:-73.2362634,43.5175758
END:VEVENT
END:VCALENDAR