BEGIN:VCALENDAR
VERSION:2.0
PRODID:-//Poultney Downtown Revitalization Committee - ECPv6.15.19//NONSGML v1.0//EN
CALSCALE:GREGORIAN
METHOD:PUBLISH
X-WR-CALNAME:Poultney Downtown Revitalization Committee
X-ORIGINAL-URL:https://poultneydowntown.com
X-WR-CALDESC:Events for Poultney Downtown Revitalization Committee
REFRESH-INTERVAL;VALUE=DURATION:PT1H
X-Robots-Tag:noindex
X-PUBLISHED-TTL:PT1H
BEGIN:VTIMEZONE
TZID:America/New_York
BEGIN:DAYLIGHT
TZOFFSETFROM:-0500
TZOFFSETTO:-0400
TZNAME:EDT
DTSTART:20230312T070000
END:DAYLIGHT
BEGIN:STANDARD
TZOFFSETFROM:-0400
TZOFFSETTO:-0500
TZNAME:EST
DTSTART:20231105T060000
END:STANDARD
BEGIN:DAYLIGHT
TZOFFSETFROM:-0500
TZOFFSETTO:-0400
TZNAME:EDT
DTSTART:20240310T070000
END:DAYLIGHT
BEGIN:STANDARD
TZOFFSETFROM:-0400
TZOFFSETTO:-0500
TZNAME:EST
DTSTART:20241103T060000
END:STANDARD
BEGIN:DAYLIGHT
TZOFFSETFROM:-0500
TZOFFSETTO:-0400
TZNAME:EDT
DTSTART:20250309T070000
END:DAYLIGHT
BEGIN:STANDARD
TZOFFSETFROM:-0400
TZOFFSETTO:-0500
TZNAME:EST
DTSTART:20251102T060000
END:STANDARD
END:VTIMEZONE
BEGIN:VEVENT
DTSTART;TZID=America/New_York:20241012T120000
DTEND;TZID=America/New_York:20241012T150000
DTSTAMP:20260425T220656
CREATED:20241007T124907Z
LAST-MODIFIED:20241011T145529Z
UID:10000002-1728734400-1728745200@poultneydowntown.com
SUMMARY:Spooktacular Family Mask Making
DESCRIPTION:Join SVA for a frightfully good time to make Halloween masks whether they be ghoulish\, creepy or even your favorite superhero. Eerie edibles including ginger deadmen\, cauldron brownies\, clementine pumpkins\, boo berry bananas\, graveyard dirt pudding and witch’s cider brew will be served. There will also be Halloween-themed games like witch hat toss\, ghost tin can bowling and a ghoulish photobooth. We hope you join us for this freaky\, fun Halloween activity.
URL:https://poultneydowntown.com/event/spooktacular-family-masking-making/
LOCATION:Stone Valley Arts\, 145 East Main Street\, Poultney\, VT\, 05764\, United States
CATEGORIES:Holidays
ATTACH;FMTTYPE=image/jpeg:https://poultneydowntown.com/wp-content/uploads/2024/10/Mask-Making-at-SVA-1110x650-1.jpg
GEO:43.5173355;-73.2298905
X-APPLE-STRUCTURED-LOCATION;VALUE=URI;X-ADDRESS=Stone Valley Arts 145 East Main Street Poultney VT 05764 United States;X-APPLE-RADIUS=500;X-TITLE=145 East Main Street:geo:-73.2298905,43.5173355
END:VEVENT
BEGIN:VEVENT
DTSTART;TZID=America/New_York:20241025T170000
DTEND;TZID=America/New_York:20241025T190000
DTSTAMP:20260425T220656
CREATED:20241007T123618Z
LAST-MODIFIED:20241007T130735Z
UID:10000004-1729875600-1729882800@poultneydowntown.com
SUMMARY:Trick or Treat Main Street- A costumed story walk with treats
DESCRIPTION:Join Poultney Public Library for Trick or Treat Main Street: Start at the library and read our special spooky story up and down Main St\, collecting a treat or prize at each stop. End at the library for yummy snacks. Note: This is a library event and regular trick or treating is still on Halloween as always. \n 
URL:https://poultneydowntown.com/event/trick-or-treat-main-street-a-costumed-story-walk-with-treats/
LOCATION:Poultney Public Library\, 205 Main Street\, Poultney\, VT\, 05764\, United States
CATEGORIES:Holidays
ATTACH;FMTTYPE=image/jpeg:https://poultneydowntown.com/wp-content/uploads/2024/10/mainstrickortreat.jpg
ORGANIZER;CN="Poultney Public Library":MAILTO:ppl5556@yahoo.com
GEO:43.5167484;-73.2369438
X-APPLE-STRUCTURED-LOCATION;VALUE=URI;X-ADDRESS=Poultney Public Library 205 Main Street Poultney VT 05764 United States;X-APPLE-RADIUS=500;X-TITLE=205 Main Street:geo:-73.2369438,43.5167484
END:VEVENT
BEGIN:VEVENT
DTSTART;TZID=America/New_York:20241026T100000
DTEND;TZID=America/New_York:20241026T103000
DTSTAMP:20260425T220656
CREATED:20241007T124307Z
LAST-MODIFIED:20241007T130551Z
UID:10000005-1729936800-1729938600@poultneydowntown.com
SUMMARY:.5k Dash for Donuts
DESCRIPTION:Join us for Poultney Public Library’s 3rd annual “race” fundraiser! The Dash for the Donuts is a .5k race (yes\, ½ kilometer) for people who don’t run. The route starts in front of Poultney High School and ends in front of Poultney Public Library. \nRegistration is $10 for adults and $5 for youth (under 18). Registration forms are available at the library.
URL:https://poultneydowntown.com/event/5k-dash-for-don/
LOCATION:Poultney Public Library\, 205 Main Street\, Poultney\, VT\, 05764\, United States
CATEGORIES:Holidays
ATTACH;FMTTYPE=image/jpeg:https://poultneydowntown.com/wp-content/uploads/2024/10/dashfordonuts.jpg
ORGANIZER;CN="Poultney Public Library":MAILTO:ppl5556@yahoo.com
GEO:43.5167484;-73.2369438
X-APPLE-STRUCTURED-LOCATION;VALUE=URI;X-ADDRESS=Poultney Public Library 205 Main Street Poultney VT 05764 United States;X-APPLE-RADIUS=500;X-TITLE=205 Main Street:geo:-73.2369438,43.5167484
END:VEVENT
END:VCALENDAR