BEGIN:VCALENDAR
VERSION:2.0
PRODID:-//Poultney Downtown Revitalization Committee - ECPv6.15.19//NONSGML v1.0//EN
CALSCALE:GREGORIAN
METHOD:PUBLISH
X-ORIGINAL-URL:https://poultneydowntown.com
X-WR-CALDESC:Events for Poultney Downtown Revitalization Committee
REFRESH-INTERVAL;VALUE=DURATION:PT1H
X-Robots-Tag:noindex
X-PUBLISHED-TTL:PT1H
BEGIN:VTIMEZONE
TZID:America/New_York
BEGIN:DAYLIGHT
TZOFFSETFROM:-0500
TZOFFSETTO:-0400
TZNAME:EDT
DTSTART:20240310T070000
END:DAYLIGHT
BEGIN:STANDARD
TZOFFSETFROM:-0400
TZOFFSETTO:-0500
TZNAME:EST
DTSTART:20241103T060000
END:STANDARD
BEGIN:DAYLIGHT
TZOFFSETFROM:-0500
TZOFFSETTO:-0400
TZNAME:EDT
DTSTART:20250309T070000
END:DAYLIGHT
BEGIN:STANDARD
TZOFFSETFROM:-0400
TZOFFSETTO:-0500
TZNAME:EST
DTSTART:20251102T060000
END:STANDARD
BEGIN:DAYLIGHT
TZOFFSETFROM:-0500
TZOFFSETTO:-0400
TZNAME:EDT
DTSTART:20260308T070000
END:DAYLIGHT
BEGIN:STANDARD
TZOFFSETFROM:-0400
TZOFFSETTO:-0500
TZNAME:EST
DTSTART:20261101T060000
END:STANDARD
END:VTIMEZONE
BEGIN:VEVENT
DTSTART;TZID=America/New_York:20250322T180000
DTEND;TZID=America/New_York:20250322T200000
DTSTAMP:20260424T182518
CREATED:20250317T165820Z
LAST-MODIFIED:20250317T165820Z
UID:10000046-1742666400-1742673600@poultneydowntown.com
SUMMARY:Bird Mountain String Band
DESCRIPTION:After the thank you party\, stick around for this family old-time and bluegrass band from a small farmstead in Vermont! Reservations are recommended if you plan to have dinner at the pub.
URL:https://poultneydowntown.com/event/bird-mountain-string-band/
LOCATION:Poultney Pub\, 158 Main Street\, Poultney\, VT\, 05764\, United States
CATEGORIES:MapleFest
ATTACH;FMTTYPE=image/jpeg:https://poultneydowntown.com/wp-content/uploads/2025/03/F6574205-70F9-4941-9491-435FBD4BE0C3.jpg
GEO:43.517377;-73.2360568
X-APPLE-STRUCTURED-LOCATION;VALUE=URI;X-ADDRESS=Poultney Pub 158 Main Street Poultney VT 05764 United States;X-APPLE-RADIUS=500;X-TITLE=158 Main Street:geo:-73.2360568,43.517377
END:VEVENT
BEGIN:VEVENT
DTSTART;TZID=America/New_York:20250322T160000
DTEND;TZID=America/New_York:20250322T170000
DTSTAMP:20260424T182518
CREATED:20250226T191208Z
LAST-MODIFIED:20250317T164340Z
UID:10000044-1742659200-1742662800@poultneydowntown.com
SUMMARY:Happy Hour Syrup Slam - Stories and Thank You Party
DESCRIPTION:This is your chance to share your favorite stories about maple sugaring in the Poultney area\, whether it’s a hilarious mishap\, a heartwarming tradition\, or a tale of perseverance and passion. We’ll also be celebrating all the amazing people who have planned and volunteered for MapleFest 2025! Come raise a glass to their hard work and dedication.\nNote for attendees: Separate reservations recommended if you plan to stay for dinner at the Pub!
URL:https://poultneydowntown.com/event/happy-hour-syrup-slam-stories-and-thank-you-party/
LOCATION:Poultney Pub\, 158 Main Street\, Poultney\, VT\, 05764\, United States
CATEGORIES:MapleFest
ATTACH;FMTTYPE=image/png:https://poultneydowntown.com/wp-content/uploads/2025/02/Screenshot-2025-02-26-at-2.10.04 PM.png
ORGANIZER;CN="PDRC":MAILTO:projects@poultneydowntown.com
GEO:43.517377;-73.2360568
X-APPLE-STRUCTURED-LOCATION;VALUE=URI;X-ADDRESS=Poultney Pub 158 Main Street Poultney VT 05764 United States;X-APPLE-RADIUS=500;X-TITLE=158 Main Street:geo:-73.2360568,43.517377
END:VEVENT
BEGIN:VEVENT
DTSTART;TZID=America/New_York:20250322T120000
DTEND;TZID=America/New_York:20250322T170000
DTSTAMP:20260424T182518
CREATED:20250322T153625Z
LAST-MODIFIED:20250322T153625Z
UID:10000048-1742644800-1742662800@poultneydowntown.com
SUMMARY:MapleFest - A Spirited Afternoon!
DESCRIPTION:This afternoon on Poultney’s Main Street we’ll have spirits and tastings:\n\n\n\n\nNoon to 4pm: BHAKTA Spirits – will host a tasting in front of the old Train Station\n2pm to 5pm: Split Spirits tasting in front of Porcupine Bikes\n4-5pm: Poultney Pub for our Sap Story happy hour and thank you party.\n6pm: Live music from the Bird Mountain String Band\n\n\n\nThen the fun continues tomorrow with open houses at our Maple houses all around the region.
URL:https://poultneydowntown.com/event/maplefest-a-spirited-afternoon/
CATEGORIES:MapleFest
ATTACH;FMTTYPE=image/png:https://poultneydowntown.com/wp-content/uploads/2025/03/Screenshot-2025-03-22-at-11.32.17 AM.png
END:VEVENT
BEGIN:VEVENT
DTSTART;TZID=America/New_York:20250322T090000
DTEND;TZID=America/New_York:20250322T090000
DTSTAMP:20260424T182518
CREATED:20250226T183955Z
LAST-MODIFIED:20250227T152504Z
UID:10000041-1742634000-1742634000@poultneydowntown.com
SUMMARY:5th Season Ride & Race - Mud\, Maple\, Mayhem!
DESCRIPTION:Register at https://www.bikereg.com/analog-fifth-season-ride\n\nAnalog’s Fifth Season Ride and Race is a feast of mud\, slush and maple syrup. Poultney’s 435rd Maple Festival is happening\, and what better way to experience it than trudging up snow covered dirt roads and hanging out in steaming sugar shacks. Watch sap boil down while you drip mud. Nosh on fried dough drizzled in maple madness. Secretly quaff bourbon out of a flask and wash it down with a shot of Vermont’s finest. The Fifth Season Ride and Race features two options: A ridiculous race (secret bonus points for collecting maple syrup and completing weird tasks) and a climby\, mellow paced ride. What’s new for 2025?? Breakfast upgrade! Lunch upgrade! Warm post ride party!\n\nThis year gnosh freshly made donuts from Whitney at the Poultney Pub (a taste of the donut and espresso pop up that will be coming to Analog this spring) and Little Seed Pour Over Coffee (roasted just for us!) down at ye ole sugar shack. Donuts and coffee included in the entry fee!\n\nThe ride traditionally finishes at the Analog Sugar House. It’s small\, cramped\, perfect for a party of say\, 15 folks. But sub-optimal for a larger party\, or getting warm\, or feeding a bunch of people. This year we’re going to have the riders AND racers finish at Analog’s retail space and workshop in downtown Poultney. There will be a catered lunch (included in the entry fee) provided by the Poultney Pub (Vegetarian and Meaty options) with an included beverage of you choice (IPA\, NA\, Hard Cider\, Hot Seasonal Cocktail\, etc) and of course the option to get additional beverages once you’ve drank that first one down. Post ride hangs\, shop tours\, records spinning\, beverages\, at Analog’s downtown HQ.
URL:https://poultneydowntown.com/event/5th-season-ride-race-mud-maple-mayhem/
LOCATION:Analog Cycles\, 188 Main Street\, Poultney\, VT\, 05764\, United States
CATEGORIES:MapleFest
ATTACH;FMTTYPE=image/jpeg:https://poultneydowntown.com/wp-content/uploads/2024/02/email-pics-kat-02.jpg
GEO:43.5173656;-73.2366809
X-APPLE-STRUCTURED-LOCATION;VALUE=URI;X-ADDRESS=Analog Cycles 188 Main Street Poultney VT 05764 United States;X-APPLE-RADIUS=500;X-TITLE=188 Main Street:geo:-73.2366809,43.5173656
END:VEVENT
END:VCALENDAR