BEGIN:VCALENDAR
VERSION:2.0
PRODID:-//Poultney Downtown Revitalization Committee - ECPv6.15.19//NONSGML v1.0//EN
CALSCALE:GREGORIAN
METHOD:PUBLISH
X-WR-CALNAME:Poultney Downtown Revitalization Committee
X-ORIGINAL-URL:https://poultneydowntown.com
X-WR-CALDESC:Events for Poultney Downtown Revitalization Committee
REFRESH-INTERVAL;VALUE=DURATION:PT1H
X-Robots-Tag:noindex
X-PUBLISHED-TTL:PT1H
BEGIN:VTIMEZONE
TZID:America/New_York
BEGIN:DAYLIGHT
TZOFFSETFROM:-0500
TZOFFSETTO:-0400
TZNAME:EDT
DTSTART:20240310T070000
END:DAYLIGHT
BEGIN:STANDARD
TZOFFSETFROM:-0400
TZOFFSETTO:-0500
TZNAME:EST
DTSTART:20241103T060000
END:STANDARD
BEGIN:DAYLIGHT
TZOFFSETFROM:-0500
TZOFFSETTO:-0400
TZNAME:EDT
DTSTART:20250309T070000
END:DAYLIGHT
BEGIN:STANDARD
TZOFFSETFROM:-0400
TZOFFSETTO:-0500
TZNAME:EST
DTSTART:20251102T060000
END:STANDARD
BEGIN:DAYLIGHT
TZOFFSETFROM:-0500
TZOFFSETTO:-0400
TZNAME:EDT
DTSTART:20260308T070000
END:DAYLIGHT
BEGIN:STANDARD
TZOFFSETFROM:-0400
TZOFFSETTO:-0500
TZNAME:EST
DTSTART:20261101T060000
END:STANDARD
END:VTIMEZONE
BEGIN:VEVENT
DTSTART;TZID=America/New_York:20250803T130000
DTEND;TZID=America/New_York:20250803T150000
DTSTAMP:20260424T232140
CREATED:20250623T144500Z
LAST-MODIFIED:20250623T144500Z
UID:10000050-1754226000-1754233200@poultneydowntown.com
SUMMARY:First Annual Cake Picnic - Ready Set Bake
DESCRIPTION:Ready\, Set\, Bake!\nJoin us for our First Annual Cake Picnic – a celebration of community\, connection and the sweetness of summer!\nOpen To All!  Please share and encourage others to attend. No Cake\, No Entry One homemade cake per individual\, couple or household.\nHomemade Cakes Only\nSuggested Donation: $10 supports the maintenance of St. Raphael’s Church \nDate:  Sunday\, August 3rd\nTime:  1:00 PM – 3:00 PM \nCake Tasting at 1:30 PM – Cake Swap at 2:00 PM\nLocation: St. Raphael’s Parish Hall\, 21 East Main Street\, Poultney \nRSVP appreciated: R.BeaupreWhite@gmail.com \nWe hope to see you! \nYour hosts and cake enthusiasts\,\nRenee Beaupre White\, Kerry Devlin & Bob Williams
URL:https://poultneydowntown.com/event/first-annual-cake-picnic-ready-set-bake/
LOCATION:Saint Raphael’s Parish Hall\, 21 East Main Street\, Poultney\, VT\, 05764\, United States
ATTACH;FMTTYPE=image/png:https://poultneydowntown.com/wp-content/uploads/2025/06/Pink-Red-Simple-Strawberry-Cake-Twitter-Header-scaled.png
GEO:43.5171694;-73.2322662
X-APPLE-STRUCTURED-LOCATION;VALUE=URI;X-ADDRESS=Saint Raphael’s Parish Hall 21 East Main Street Poultney VT 05764 United States;X-APPLE-RADIUS=500;X-TITLE=21 East Main Street:geo:-73.2322662,43.5171694
END:VEVENT
END:VCALENDAR