BEGIN:VCALENDAR
VERSION:2.0
PRODID:-//Poultney Downtown Revitalization Committee - ECPv6.15.19//NONSGML v1.0//EN
CALSCALE:GREGORIAN
METHOD:PUBLISH
X-WR-CALNAME:Poultney Downtown Revitalization Committee
X-ORIGINAL-URL:https://poultneydowntown.com
X-WR-CALDESC:Events for Poultney Downtown Revitalization Committee
REFRESH-INTERVAL;VALUE=DURATION:PT1H
X-Robots-Tag:noindex
X-PUBLISHED-TTL:PT1H
BEGIN:VTIMEZONE
TZID:America/New_York
BEGIN:DAYLIGHT
TZOFFSETFROM:-0500
TZOFFSETTO:-0400
TZNAME:EDT
DTSTART:20250309T070000
END:DAYLIGHT
BEGIN:STANDARD
TZOFFSETFROM:-0400
TZOFFSETTO:-0500
TZNAME:EST
DTSTART:20251102T060000
END:STANDARD
BEGIN:DAYLIGHT
TZOFFSETFROM:-0500
TZOFFSETTO:-0400
TZNAME:EDT
DTSTART:20260308T070000
END:DAYLIGHT
BEGIN:STANDARD
TZOFFSETFROM:-0400
TZOFFSETTO:-0500
TZNAME:EST
DTSTART:20261101T060000
END:STANDARD
BEGIN:DAYLIGHT
TZOFFSETFROM:-0500
TZOFFSETTO:-0400
TZNAME:EDT
DTSTART:20270314T070000
END:DAYLIGHT
BEGIN:STANDARD
TZOFFSETFROM:-0400
TZOFFSETTO:-0500
TZNAME:EST
DTSTART:20271107T060000
END:STANDARD
END:VTIMEZONE
BEGIN:VEVENT
DTSTART;TZID=America/New_York:20260321T163000
DTEND;TZID=America/New_York:20260321T183000
DTSTAMP:20260424T152915
CREATED:20250226T190518Z
LAST-MODIFIED:20260307T120738Z
UID:10000043-1774110600-1774117800@poultneydowntown.com
SUMMARY:Community Ham Dinner - MapleFest 2026
DESCRIPTION:Join the fun on Sunday\, March 22nd\, when Young at Heart Senior Center hosts the annual Poultney MapleFest Dinner! The meal includes maple-glazed ham\, potatoes\, vegetables\, dessert\, and beverages.\n\nCost is just $10 for adults\, $5 for kids 12 and under\nDinner will be served from 4:30-6:30pm\nTake-out available that day by calling (802)287-9200.\n\nAll proceeds go to support Young at Heart Senior Center. For more info please call the center (802)287-9200.
URL:https://poultneydowntown.com/event/community-ham-dinner-maplefest-2025/
LOCATION:Young At Heart\, 206 Furnace Street\, Poultney\, VT\, 05764\, United States
CATEGORIES:2026 MapleFest,Food
ATTACH;FMTTYPE=image/png:https://poultneydowntown.com/wp-content/uploads/2025/02/e6bd01a5-3a37-49d3-9327-403228dabe3f.png
ORGANIZER;CN="Young At Heart":MAILTO:yahsc@comcast.net
GEO:43.5156082;-73.2286338
X-APPLE-STRUCTURED-LOCATION;VALUE=URI;X-ADDRESS=Young At Heart 206 Furnace Street Poultney VT 05764 United States;X-APPLE-RADIUS=500;X-TITLE=206 Furnace Street:geo:-73.2286338,43.5156082
END:VEVENT
BEGIN:VEVENT
DTSTART;TZID=America/New_York:20260321T110000
DTEND;TZID=America/New_York:20260321T140000
DTSTAMP:20260424T152915
CREATED:20250226T185747Z
LAST-MODIFIED:20260310T131142Z
UID:10000042-1774090800-1774101600@poultneydowntown.com
SUMMARY:MapleFest East Poultney - Horse & Wagon Rides\, Open Farm Experience\, and Baked Goods
DESCRIPTION:Celebrate MapleFest in East Poultney! 🍁 \nStep back in time and experience the charm of historic East Poultney during MapleFest. Surrounded by beautiful village views and centuries of local history\, East Poultney offers a relaxed\, family-friendly way to celebrate Vermont’s sweetest season. Take a scenic horse and wagon ride through the historic village with pick-up and drop-off at the East Poultney Baptist Church. Stop in at the East Poultney United Baptist Church for delicious homemade baked goods — perfect for enjoying with a cup of coffee while taking in the atmosphere. Families won’t want to miss the Open Farm Experience\, where you can tour a local farm\, meet friendly animals\, and get a glimpse of rural life in our community. \nWhether you’re exploring the village\, enjoying local treats\, or spending time with family\, East Poultney is the perfect place to slow down and savor the spirit of MapleFest. 🍁 \n 
URL:https://poultneydowntown.com/event/east-poultney-maplefest-horse-wagon-rides-historical-tours-snacks/
LOCATION:East Poultney Baptist Church\, 1500 East Main Street\, Poultney\, VT\, 05764\, United States
CATEGORIES:2026 MapleFest,Events
ATTACH;FMTTYPE=image/jpeg:https://poultneydowntown.com/wp-content/uploads/2025/05/Poultney-Area-Chamber-of-Commerce-Maple-Wagon-Rides-3.jpg
GEO:43.5255713;-73.2056767
X-APPLE-STRUCTURED-LOCATION;VALUE=URI;X-ADDRESS=East Poultney Baptist Church 1500 East Main Street Poultney VT 05764 United States;X-APPLE-RADIUS=500;X-TITLE=1500 East Main Street:geo:-73.2056767,43.5255713
END:VEVENT
BEGIN:VEVENT
DTSTART;TZID=America/New_York:20260321T100000
DTEND;TZID=America/New_York:20260321T103000
DTSTAMP:20260424T152915
CREATED:20250226T184450Z
LAST-MODIFIED:20260307T113836Z
UID:10000039-1774087200-1774089000@poultneydowntown.com
SUMMARY:Poultney MapleFest - Opening Ceremony & Tree Tapping
DESCRIPTION:Join the community for the official start of Poultney MapleFest! Enjoy the opening ceremony\, followed by the symbolic first tapping of the maple trees with local officials and enjoy activites in East Poultney.
URL:https://poultneydowntown.com/event/poultney-maplefest-opening-ceremony-tree-tapping/
LOCATION:Poultney Historical Society\, East Main Street 1499\, Poultney\, Vermont\, 05764\, United States
CATEGORIES:2026 MapleFest
ATTACH;FMTTYPE=image/png:https://poultneydowntown.com/wp-content/uploads/2025/02/Screenshot-2025-02-26-at-1.44.26 PM.png
ORGANIZER;CN="Poultney MapleFest":MAILTO:https://poultneydowntown.com/maplefest/
GEO:43.5263233;-73.2061973
X-APPLE-STRUCTURED-LOCATION;VALUE=URI;X-ADDRESS=Poultney Historical Society East Main Street 1499 Poultney Vermont 05764 United States;X-APPLE-RADIUS=500;X-TITLE=East Main Street 1499:geo:-73.2061973,43.5263233
END:VEVENT
BEGIN:VEVENT
DTSTART;TZID=America/New_York:20260321T090000
DTEND;TZID=America/New_York:20260321T150000
DTSTAMP:20260424T152915
CREATED:20260307T113028Z
LAST-MODIFIED:20260307T113028Z
UID:10000051-1774083600-1774105200@poultneydowntown.com
SUMMARY:5th Season Ride & Race: Mud\, Maple\, Mayhem!
DESCRIPTION:Analog’s Fifth Season Ride and Race is a feast of mud\, slush and maple syrup.   What better way to experience Poultney’s maple sugar season than trudging up snow covered dirt roads and hanging out in steaming sugar shacks.  Start out with handmade maple donuts and pour over coffee.  Watch sap boil down while you drip mud. Nosh on fried dough drizzled in maple madness. Eat a hot dog boiled in maple sap. The Fifth Season Ride and Race features two options: A ridiculous race (secret bonus points for collecting maple syrup and completing weird tasks) and a climby\, mellow paced ride.  Either way\, you’ll visit a bunch of maple sugar shacks\, meet cool locals\, eat way too much good food and cap it all off with a good catered meal from the Poultney Pub. \nRegister on bikereg\, here! \nThis is not your average bike event. It’s a celebration of mud\, maple\, and the joys of riding dirty. So grab your bike\, your appetite for adventure and loads of sugar\, and get ready to experience the Fifth Season the Analog way.  Which is disjointed and barely functional\, but fun! \nFor 2026 we’ll gnosh freshly made donuts from Whitney at the Poultney Pub  and Little Seed Pour Over coffees down at ye ole sugar shack.  Donut and coffee included in the entry fee!
URL:https://poultneydowntown.com/event/5th-season-ride-race-mud-maple-mayhem-2/
LOCATION:Analog Cycles\, 188 Main Street\, Poultney\, VT\, 05764\, United States
ATTACH;FMTTYPE=image/webp:https://poultneydowntown.com/wp-content/uploads/2026/03/Fifth_Season_24-22.webp
GEO:43.5173656;-73.2366809
X-APPLE-STRUCTURED-LOCATION;VALUE=URI;X-ADDRESS=Analog Cycles 188 Main Street Poultney VT 05764 United States;X-APPLE-RADIUS=500;X-TITLE=188 Main Street:geo:-73.2366809,43.5173656
END:VEVENT
BEGIN:VEVENT
DTSTART;TZID=America/New_York:20260321T080000
DTEND;TZID=America/New_York:20260321T100000
DTSTAMP:20260424T152915
CREATED:20250226T182949Z
LAST-MODIFIED:20260307T120948Z
UID:10000037-1774080000-1774087200@poultneydowntown.com
SUMMARY:Pancake Breakfast - Poultney United Methodist Church
DESCRIPTION:FREE BREAKFAST\n8:00 a.m. to 10:00 a.m.\nat Poultney United Methodist Church\, 108 Main Street.\n\nMenu: Pancakes & Sausage.\n\nAll provided FREE by the church. Donations accepted. All are welcome. Questions: call the church number 802-287-5710.
URL:https://poultneydowntown.com/event/pancake-breakfast-poultney-united-methodist-church/
LOCATION:Poultney Methodist Church\, 108 Main Street\, Poultney\, VT\, 05764\, United States
CATEGORIES:2026 MapleFest
ATTACH;FMTTYPE=image/png:https://poultneydowntown.com/wp-content/uploads/2025/02/Screenshot-2025-02-26-at-1.28.53 PM.png
ORGANIZER;CN="Poultney United Methodist Church":MAILTO:poultneyumc@comcast.net
GEO:43.517352;-73.2349913
X-APPLE-STRUCTURED-LOCATION;VALUE=URI;X-ADDRESS=Poultney Methodist Church 108 Main Street Poultney VT 05764 United States;X-APPLE-RADIUS=500;X-TITLE=108 Main Street:geo:-73.2349913,43.517352
END:VEVENT
END:VCALENDAR