BEGIN:VCALENDAR
VERSION:2.0
PRODID:-//Poultney Downtown Revitalization Committee - ECPv6.15.19//NONSGML v1.0//EN
CALSCALE:GREGORIAN
METHOD:PUBLISH
X-WR-CALNAME:Poultney Downtown Revitalization Committee
X-ORIGINAL-URL:https://poultneydowntown.com
X-WR-CALDESC:Events for Poultney Downtown Revitalization Committee
REFRESH-INTERVAL;VALUE=DURATION:PT1H
X-Robots-Tag:noindex
X-PUBLISHED-TTL:PT1H
BEGIN:VTIMEZONE
TZID:America/New_York
BEGIN:DAYLIGHT
TZOFFSETFROM:-0500
TZOFFSETTO:-0400
TZNAME:EDT
DTSTART:20230312T070000
END:DAYLIGHT
BEGIN:STANDARD
TZOFFSETFROM:-0400
TZOFFSETTO:-0500
TZNAME:EST
DTSTART:20231105T060000
END:STANDARD
BEGIN:DAYLIGHT
TZOFFSETFROM:-0500
TZOFFSETTO:-0400
TZNAME:EDT
DTSTART:20240310T070000
END:DAYLIGHT
BEGIN:STANDARD
TZOFFSETFROM:-0400
TZOFFSETTO:-0500
TZNAME:EST
DTSTART:20241103T060000
END:STANDARD
BEGIN:DAYLIGHT
TZOFFSETFROM:-0500
TZOFFSETTO:-0400
TZNAME:EDT
DTSTART:20250309T070000
END:DAYLIGHT
BEGIN:STANDARD
TZOFFSETFROM:-0400
TZOFFSETTO:-0500
TZNAME:EST
DTSTART:20251102T060000
END:STANDARD
BEGIN:DAYLIGHT
TZOFFSETFROM:-0500
TZOFFSETTO:-0400
TZNAME:EDT
DTSTART:20260308T070000
END:DAYLIGHT
BEGIN:STANDARD
TZOFFSETFROM:-0400
TZOFFSETTO:-0500
TZNAME:EST
DTSTART:20261101T060000
END:STANDARD
BEGIN:DAYLIGHT
TZOFFSETFROM:-0500
TZOFFSETTO:-0400
TZNAME:EDT
DTSTART:20270314T070000
END:DAYLIGHT
BEGIN:STANDARD
TZOFFSETFROM:-0400
TZOFFSETTO:-0500
TZNAME:EST
DTSTART:20271107T060000
END:STANDARD
END:VTIMEZONE
BEGIN:VEVENT
DTSTART;TZID=America/New_York:20260321T080000
DTEND;TZID=America/New_York:20260321T100000
DTSTAMP:20260424T170421
CREATED:20250226T182949Z
LAST-MODIFIED:20260307T120948Z
UID:10000037-1774080000-1774087200@poultneydowntown.com
SUMMARY:Pancake Breakfast - Poultney United Methodist Church
DESCRIPTION:FREE BREAKFAST\n8:00 a.m. to 10:00 a.m.\nat Poultney United Methodist Church\, 108 Main Street.\n\nMenu: Pancakes & Sausage.\n\nAll provided FREE by the church. Donations accepted. All are welcome. Questions: call the church number 802-287-5710.
URL:https://poultneydowntown.com/event/pancake-breakfast-poultney-united-methodist-church/
LOCATION:Poultney Methodist Church\, 108 Main Street\, Poultney\, VT\, 05764\, United States
CATEGORIES:2026 MapleFest
ATTACH;FMTTYPE=image/png:https://poultneydowntown.com/wp-content/uploads/2025/02/Screenshot-2025-02-26-at-1.28.53 PM.png
ORGANIZER;CN="Poultney United Methodist Church":MAILTO:poultneyumc@comcast.net
GEO:43.517352;-73.2349913
X-APPLE-STRUCTURED-LOCATION;VALUE=URI;X-ADDRESS=Poultney Methodist Church 108 Main Street Poultney VT 05764 United States;X-APPLE-RADIUS=500;X-TITLE=108 Main Street:geo:-73.2349913,43.517352
END:VEVENT
BEGIN:VEVENT
DTSTART;TZID=America/New_York:20241221T163000
DTEND;TZID=America/New_York:20241221T173000
DTSTAMP:20260424T170421
CREATED:20241212T173142Z
LAST-MODIFIED:20241212T173142Z
UID:10000035-1734798600-1734802200@poultneydowntown.com
SUMMARY:Winter Solstice Celebration
DESCRIPTION:All are welcome! Join us at the the PUMC fellowship hall on Saturday\, December 21st at 4:30pm for a celebration of the Winter Solstice. \nWe will opening the Parish Hall at 4:30pm with a limited amount of bells that people may take and put a loved one’s name on that is no longer with them or the name of a special pet or etc. We will march up to the Quarry Park at about 4:45pm to prepare for a full minute of bell ringing in conjunction with the area churches at 5:00pm\, then we will do some caroling and afterwards hot cocoa and cookies will be available.
URL:https://poultneydowntown.com/event/winter-solstice-celebration/
LOCATION:Poultney Methodist Church\, 108 Main Street\, Poultney\, VT\, 05764\, United States
CATEGORIES:Holidays
ATTACH;FMTTYPE=image/png:https://poultneydowntown.com/wp-content/uploads/2024/12/Blue-Natural-Hello-Winter-Instagram-Post.png
ORGANIZER;CN="Poultney United Methodist Church":MAILTO:poultneyumc@comcast.net
GEO:43.517352;-73.2349913
X-APPLE-STRUCTURED-LOCATION;VALUE=URI;X-ADDRESS=Poultney Methodist Church 108 Main Street Poultney VT 05764 United States;X-APPLE-RADIUS=500;X-TITLE=108 Main Street:geo:-73.2349913,43.517352
END:VEVENT
BEGIN:VEVENT
DTSTART;TZID=America/New_York:20241123T090000
DTEND;TZID=America/New_York:20241123T150000
DTSTAMP:20260424T170421
CREATED:20241118T184644Z
LAST-MODIFIED:20241118T185619Z
UID:10000030-1732352400-1732374000@poultneydowntown.com
SUMMARY:Christmas Bazaar - Sylvia's Circle
DESCRIPTION:Join us for a Christmas Bazaar at the Methodist Church in Poultney\, on the Saturday before Thanksgiving. Lots of handmade items for sale\, refreshments and fun to be had! \nDoors open at 9am\, and the luncheon starts at 11am and goes until 2pm. \nBring your friends and family to this annual holiday event!
URL:https://poultneydowntown.com/event/christmas-bazaar-sylvias-circle/
LOCATION:Poultney Methodist Church\, 108 Main Street\, Poultney\, VT\, 05764\, United States
CATEGORIES:Holidays
ATTACH;FMTTYPE=image/png:https://poultneydowntown.com/wp-content/uploads/2024/11/Xmas-Bazaar-generic.png
ORGANIZER;CN="Poultney United Methodist Church":MAILTO:poultneyumc@comcast.net
GEO:43.517352;-73.2349913
X-APPLE-STRUCTURED-LOCATION;VALUE=URI;X-ADDRESS=Poultney Methodist Church 108 Main Street Poultney VT 05764 United States;X-APPLE-RADIUS=500;X-TITLE=108 Main Street:geo:-73.2349913,43.517352
END:VEVENT
END:VCALENDAR