BEGIN:VCALENDAR
VERSION:2.0
PRODID:-//Poultney Downtown Revitalization Committee - ECPv6.15.19//NONSGML v1.0//EN
CALSCALE:GREGORIAN
METHOD:PUBLISH
X-WR-CALNAME:Poultney Downtown Revitalization Committee
X-ORIGINAL-URL:https://poultneydowntown.com
X-WR-CALDESC:Events for Poultney Downtown Revitalization Committee
REFRESH-INTERVAL;VALUE=DURATION:PT1H
X-Robots-Tag:noindex
X-PUBLISHED-TTL:PT1H
BEGIN:VTIMEZONE
TZID:America/New_York
BEGIN:DAYLIGHT
TZOFFSETFROM:-0500
TZOFFSETTO:-0400
TZNAME:EDT
DTSTART:20230312T070000
END:DAYLIGHT
BEGIN:STANDARD
TZOFFSETFROM:-0400
TZOFFSETTO:-0500
TZNAME:EST
DTSTART:20231105T060000
END:STANDARD
BEGIN:DAYLIGHT
TZOFFSETFROM:-0500
TZOFFSETTO:-0400
TZNAME:EDT
DTSTART:20240310T070000
END:DAYLIGHT
BEGIN:STANDARD
TZOFFSETFROM:-0400
TZOFFSETTO:-0500
TZNAME:EST
DTSTART:20241103T060000
END:STANDARD
BEGIN:DAYLIGHT
TZOFFSETFROM:-0500
TZOFFSETTO:-0400
TZNAME:EDT
DTSTART:20250309T070000
END:DAYLIGHT
BEGIN:STANDARD
TZOFFSETFROM:-0400
TZOFFSETTO:-0500
TZNAME:EST
DTSTART:20251102T060000
END:STANDARD
END:VTIMEZONE
BEGIN:VEVENT
DTSTART;TZID=America/New_York:20241221T130000
DTEND;TZID=America/New_York:20241221T140000
DTSTAMP:20260424T170429
CREATED:20241113T170557Z
LAST-MODIFIED:20241122T153545Z
UID:10000027-1734786000-1734789600@poultneydowntown.com
SUMMARY:The Poultney-Granville Town Band Annual Christmas Concert
DESCRIPTION:The Poultney-Granville Town Band is preparing for its fifteenth annual Christmas concert. Sponsored by the Poultney Women’s Club\, the free concert is the highlight of Poultney’s Christmas season and offers listeners a classic holiday musical experience. \nThis concert is free and open to the entire family.
URL:https://poultneydowntown.com/event/the-poultney-granville-town-band-annual-christmas-concert/
LOCATION:Saint Raphael’s Parish Hall\, 21 East Main Street\, Poultney\, VT\, 05764\, United States
CATEGORIES:Holidays
ATTACH;FMTTYPE=image/png:https://poultneydowntown.com/wp-content/uploads/2024/11/Screenshot-2024-11-22-at-10.32.05 AM.png
GEO:43.5171694;-73.2322662
X-APPLE-STRUCTURED-LOCATION;VALUE=URI;X-ADDRESS=Saint Raphael’s Parish Hall 21 East Main Street Poultney VT 05764 United States;X-APPLE-RADIUS=500;X-TITLE=21 East Main Street:geo:-73.2322662,43.5171694
END:VEVENT
BEGIN:VEVENT
DTSTART;VALUE=DATE:20241118
DTEND;VALUE=DATE:20241215
DTSTAMP:20260424T170429
CREATED:20241106T144035Z
LAST-MODIFIED:20241106T144310Z
UID:10000020-1731888000-1734220799@poultneydowntown.com
SUMMARY:Tree Of Giving
DESCRIPTION:The Poultney Woman’s Club invites you to join in making the holiday more festive for local children and seniors by participating in the annual Tree of Giving project. By visiting the Giving Tree you can choose a name and have fun shopping for toys and/or needed items\, such as clothes and shoes. \nThis annual holiday campaign is sponsored by the Poultney Woman’s Club and supported by the area community. \nThe Tree of Giving will be at the Original Vermont Store\, in Poultney\, VT\, and will be available Monday\, Nov. 18th\, through Saturday\, Dec. 14th. Women’s Club members will be available from 12-4 p.m. on Mondays through Fridays\, and from 9 a.m. to 12 p.m. on Saturdays. It will be closed on Thanksgiving Day and Sundays. \nIn the past\, the project have helped over 30 families with more than 80 children being served and approximately 55 seniors citizens. \nPlease stop in and enjoy making a child happy on Christmas morning.
URL:https://poultneydowntown.com/event/tree-of-giving/
LOCATION:The Original Vermont Store\, 163 Main Street\, Poultney\, VT\, 05764\, United States
CATEGORIES:Holidays
ATTACH;FMTTYPE=image/jpeg:https://poultneydowntown.com/wp-content/uploads/2024/11/TreeOfGiving3-e1730902932584.jpg
GEO:43.5168219;-73.2361049
X-APPLE-STRUCTURED-LOCATION;VALUE=URI;X-ADDRESS=The Original Vermont Store 163 Main Street Poultney VT 05764 United States;X-APPLE-RADIUS=500;X-TITLE=163 Main Street:geo:-73.2361049,43.5168219
END:VEVENT
END:VCALENDAR