BEGIN:VCALENDAR
VERSION:2.0
PRODID:-//Poultney Downtown Revitalization Committee - ECPv6.15.19//NONSGML v1.0//EN
CALSCALE:GREGORIAN
METHOD:PUBLISH
X-WR-CALNAME:Poultney Downtown Revitalization Committee
X-ORIGINAL-URL:https://poultneydowntown.com
X-WR-CALDESC:Events for Poultney Downtown Revitalization Committee
REFRESH-INTERVAL;VALUE=DURATION:PT1H
X-Robots-Tag:noindex
X-PUBLISHED-TTL:PT1H
BEGIN:VTIMEZONE
TZID:America/New_York
BEGIN:DAYLIGHT
TZOFFSETFROM:-0500
TZOFFSETTO:-0400
TZNAME:EDT
DTSTART:20250309T070000
END:DAYLIGHT
BEGIN:STANDARD
TZOFFSETFROM:-0400
TZOFFSETTO:-0500
TZNAME:EST
DTSTART:20251102T060000
END:STANDARD
BEGIN:DAYLIGHT
TZOFFSETFROM:-0500
TZOFFSETTO:-0400
TZNAME:EDT
DTSTART:20260308T070000
END:DAYLIGHT
BEGIN:STANDARD
TZOFFSETFROM:-0400
TZOFFSETTO:-0500
TZNAME:EST
DTSTART:20261101T060000
END:STANDARD
BEGIN:DAYLIGHT
TZOFFSETFROM:-0500
TZOFFSETTO:-0400
TZNAME:EDT
DTSTART:20270314T070000
END:DAYLIGHT
BEGIN:STANDARD
TZOFFSETFROM:-0400
TZOFFSETTO:-0500
TZNAME:EST
DTSTART:20271107T060000
END:STANDARD
END:VTIMEZONE
BEGIN:VEVENT
DTSTART;TZID=America/New_York:20260321T090000
DTEND;TZID=America/New_York:20260321T130000
DTSTAMP:20260424T170416
CREATED:20250312T144554Z
LAST-MODIFIED:20260317T180422Z
UID:10000045-1774083600-1774098000@poultneydowntown.com
SUMMARY:Bryn Cariad Farm: Open Farm Experience & Maple-Inspired Treats!
DESCRIPTION:Join us at Bryn Cariad Farm on Saturday\, March 22nd\, from 9:00 AM to 1:00 PM for a special MapleFest celebration! Stop by our farm stand for delicious maple-inspired baked goods and a true taste of farm life. Then head down to the barn to meet our newest lambs and maybe even witness a lamb being born! Bring the whole family to experience the sweetness of spring on the farm.
URL:https://poultneydowntown.com/event/maplefest-at-bryn-cariad-farm-meet-the-lambs-enjoy-maple-inspired-treats/
LOCATION:Bryn Cariad Farms\, 41 On the Green\, Poultney\, 05764\, United States
CATEGORIES:2026 MapleFest,Events
ATTACH;FMTTYPE=image/png:https://poultneydowntown.com/wp-content/uploads/2025/03/Screenshot-2026-03-17-at-2.03.33-PM.png
GEO:43.525815;-73.2049371
X-APPLE-STRUCTURED-LOCATION;VALUE=URI;X-ADDRESS=Bryn Cariad Farms 41 On the Green Poultney 05764 United States;X-APPLE-RADIUS=500;X-TITLE=41 On the Green:geo:-73.2049371,43.525815
END:VEVENT
END:VCALENDAR