BEGIN:VCALENDAR
VERSION:2.0
PRODID:-//Poultney Downtown Revitalization Committee - ECPv6.15.19//NONSGML v1.0//EN
CALSCALE:GREGORIAN
METHOD:PUBLISH
X-ORIGINAL-URL:https://poultneydowntown.com
X-WR-CALDESC:Events for Poultney Downtown Revitalization Committee
REFRESH-INTERVAL;VALUE=DURATION:PT1H
X-Robots-Tag:noindex
X-PUBLISHED-TTL:PT1H
BEGIN:VTIMEZONE
TZID:America/New_York
BEGIN:DAYLIGHT
TZOFFSETFROM:-0500
TZOFFSETTO:-0400
TZNAME:EDT
DTSTART:20230312T070000
END:DAYLIGHT
BEGIN:STANDARD
TZOFFSETFROM:-0400
TZOFFSETTO:-0500
TZNAME:EST
DTSTART:20231105T060000
END:STANDARD
BEGIN:DAYLIGHT
TZOFFSETFROM:-0500
TZOFFSETTO:-0400
TZNAME:EDT
DTSTART:20240310T070000
END:DAYLIGHT
BEGIN:STANDARD
TZOFFSETFROM:-0400
TZOFFSETTO:-0500
TZNAME:EST
DTSTART:20241103T060000
END:STANDARD
BEGIN:DAYLIGHT
TZOFFSETFROM:-0500
TZOFFSETTO:-0400
TZNAME:EDT
DTSTART:20250309T070000
END:DAYLIGHT
BEGIN:STANDARD
TZOFFSETFROM:-0400
TZOFFSETTO:-0500
TZNAME:EST
DTSTART:20251102T060000
END:STANDARD
BEGIN:DAYLIGHT
TZOFFSETFROM:-0500
TZOFFSETTO:-0400
TZNAME:EDT
DTSTART:20260308T070000
END:DAYLIGHT
BEGIN:STANDARD
TZOFFSETFROM:-0400
TZOFFSETTO:-0500
TZNAME:EST
DTSTART:20261101T060000
END:STANDARD
BEGIN:DAYLIGHT
TZOFFSETFROM:-0500
TZOFFSETTO:-0400
TZNAME:EDT
DTSTART:20270314T070000
END:DAYLIGHT
BEGIN:STANDARD
TZOFFSETFROM:-0400
TZOFFSETTO:-0500
TZNAME:EST
DTSTART:20271107T060000
END:STANDARD
END:VTIMEZONE
BEGIN:VEVENT
DTSTART;TZID=America/New_York:20260321T110000
DTEND;TZID=America/New_York:20260321T140000
DTSTAMP:20260424T170720
CREATED:20250226T185747Z
LAST-MODIFIED:20260310T131142Z
UID:10000042-1774090800-1774101600@poultneydowntown.com
SUMMARY:MapleFest East Poultney - Horse & Wagon Rides\, Open Farm Experience\, and Baked Goods
DESCRIPTION:Celebrate MapleFest in East Poultney! 🍁 \nStep back in time and experience the charm of historic East Poultney during MapleFest. Surrounded by beautiful village views and centuries of local history\, East Poultney offers a relaxed\, family-friendly way to celebrate Vermont’s sweetest season. Take a scenic horse and wagon ride through the historic village with pick-up and drop-off at the East Poultney Baptist Church. Stop in at the East Poultney United Baptist Church for delicious homemade baked goods — perfect for enjoying with a cup of coffee while taking in the atmosphere. Families won’t want to miss the Open Farm Experience\, where you can tour a local farm\, meet friendly animals\, and get a glimpse of rural life in our community. \nWhether you’re exploring the village\, enjoying local treats\, or spending time with family\, East Poultney is the perfect place to slow down and savor the spirit of MapleFest. 🍁 \n 
URL:https://poultneydowntown.com/event/east-poultney-maplefest-horse-wagon-rides-historical-tours-snacks/
LOCATION:East Poultney Baptist Church\, 1500 East Main Street\, Poultney\, VT\, 05764\, United States
CATEGORIES:2026 MapleFest,Events
ATTACH;FMTTYPE=image/jpeg:https://poultneydowntown.com/wp-content/uploads/2025/05/Poultney-Area-Chamber-of-Commerce-Maple-Wagon-Rides-3.jpg
GEO:43.5255713;-73.2056767
X-APPLE-STRUCTURED-LOCATION;VALUE=URI;X-ADDRESS=East Poultney Baptist Church 1500 East Main Street Poultney VT 05764 United States;X-APPLE-RADIUS=500;X-TITLE=1500 East Main Street:geo:-73.2056767,43.5255713
END:VEVENT
BEGIN:VEVENT
DTSTART;TZID=America/New_York:20260321T100000
DTEND;TZID=America/New_York:20260321T140000
DTSTAMP:20260424T170720
CREATED:20260321T140056Z
LAST-MODIFIED:20260307T124009Z
UID:10000052-1774087200-1774101600@poultneydowntown.com
SUMMARY:Baked Goods & Lunch - United Baptist Church
DESCRIPTION:Join us at United Baptist Church of Poultney (On the East Poultney Green) from 10 am until 2 pm for wonderful Maple Treats! We’d love to share hot coffee\, chocolate and tea with Maple Cinnamon Rolls for breakfast from 10-11am. \nFor lunch 11 am until 2 pm (or until we sell out) we’ll be offering LOCAL sausage sandwiches with peppers and onions – – along with many maple treats including Maple Cookies\, Maple Chocolate Delights\, Maple Walnut Fudge\, Maple Pies and much more. Funds are being raised to repaint the exterior of this historic\, beautiful community building. \nPlease stop in on your Maple travels. And\, if you’ll be taking the horse and carriage rides which begin in the church parking lot\, walk on over for a warm drink and great conversation!! Can’t wait to see YOU!!!
URL:https://poultneydowntown.com/event/baked-goods-lunch-united-baptist-church/
LOCATION:East Poultney Baptist Church\, 1500 East Main Street\, Poultney\, VT\, 05764\, United States
CATEGORIES:2026 MapleFest,Food
ATTACH;FMTTYPE=image/png:https://poultneydowntown.com/wp-content/uploads/2026/03/Screenshot-2026-03-07-at-6.49.37-AM.png
GEO:43.5255713;-73.2056767
X-APPLE-STRUCTURED-LOCATION;VALUE=URI;X-ADDRESS=East Poultney Baptist Church 1500 East Main Street Poultney VT 05764 United States;X-APPLE-RADIUS=500;X-TITLE=1500 East Main Street:geo:-73.2056767,43.5255713
END:VEVENT
BEGIN:VEVENT
DTSTART;TZID=America/New_York:20260321T100000
DTEND;TZID=America/New_York:20260321T140000
DTSTAMP:20260424T170720
CREATED:20260307T125249Z
LAST-MODIFIED:20260307T125249Z
UID:10000054-1774087200-1774101600@poultneydowntown.com
SUMMARY:Baked Goods & Lunch - United Baptist Church
DESCRIPTION:Join us at United Baptist Church of Poultney (On the East Poultney Green) from 10 am until 2 pm for wonderful Maple Treats! We’d love to share hot coffee\, chocolate and tea with Maple Cinnamon Rolls for breakfast from 10-11am. \nFor lunch 11 am until 2 pm (or until we sell out) we’ll be offering LOCAL sausage sandwiches with peppers and onions – – along with many maple treats including Maple Cookies\, Maple Chocolate Delights\, Maple Walnut Fudge\, Maple Pies and much more. Funds are being raised to repaint the exterior of this historic\, beautiful community building. \nPlease stop in on your Maple travels. And\, if you’ll be taking the horse and carriage rides which begin in the church parking lot\, walk on over for a warm drink and great conversation!! Can’t wait to see YOU!!!
URL:https://poultneydowntown.com/event/baked-goods-lunch-united-baptist-church-2/
LOCATION:East Poultney Baptist Church\, 1500 East Main Street\, Poultney\, VT\, 05764\, United States
CATEGORIES:2026 MapleFest,Food
ATTACH;FMTTYPE=image/png:https://poultneydowntown.com/wp-content/uploads/2026/03/Screenshot-2026-03-07-at-6.49.37-AM.png
GEO:43.5255713;-73.2056767
X-APPLE-STRUCTURED-LOCATION;VALUE=URI;X-ADDRESS=East Poultney Baptist Church 1500 East Main Street Poultney VT 05764 United States;X-APPLE-RADIUS=500;X-TITLE=1500 East Main Street:geo:-73.2056767,43.5255713
END:VEVENT
BEGIN:VEVENT
DTSTART;TZID=America/New_York:20241212T183000
DTEND;TZID=America/New_York:20241212T200000
DTSTAMP:20260424T170720
CREATED:20241007T135844Z
LAST-MODIFIED:20241025T131628Z
UID:10000008-1734028200-1734033600@poultneydowntown.com
SUMMARY:7th Annual X-mas Lights Bike Ride
DESCRIPTION:Analog Cyles will be hosting their Annual X-mas Lights bike ride on Dec 12th with a rain date of the 19th. Ride will start at 6:30 at the East Poultney green\, head downtown at a very slow parade pace\, and be a total of around 3.5 or 4 miles. \nEvery year prizes are given for best adult bike and best kids bike decorations. Ride ends in downtown\, after party at the Pub starts at 7:30\, with Xmas themed records and (likely) some drink specials. All ages welcome to both.
URL:https://poultneydowntown.com/event/7th-annual-x-mas-lights-bike-ride/
LOCATION:East Poultney Baptist Church\, 1500 East Main Street\, Poultney\, VT\, 05764\, United States
CATEGORIES:Holidays
ATTACH;FMTTYPE=image/jpeg:https://poultneydowntown.com/wp-content/uploads/2024/10/cyclerace-scaled.jpg
GEO:43.5255713;-73.2056767
X-APPLE-STRUCTURED-LOCATION;VALUE=URI;X-ADDRESS=East Poultney Baptist Church 1500 East Main Street Poultney VT 05764 United States;X-APPLE-RADIUS=500;X-TITLE=1500 East Main Street:geo:-73.2056767,43.5255713
END:VEVENT
BEGIN:VEVENT
DTSTART;TZID=America/New_York:20241019T100000
DTEND;TZID=America/New_York:20241019T150000
DTSTAMP:20260424T170720
CREATED:20241007T123139Z
LAST-MODIFIED:20241007T130109Z
UID:10000003-1729332000-1729350000@poultneydowntown.com
SUMMARY:22nd Annual Horace Greeley Writers’ Symposium
DESCRIPTION:The 22nd Annual Horace Greeley Writers’ Symposium\, held each year in Poultney\, Vermont\, is a celebration of Horace Greeley’s life. The symposium\, hosted by the Horace Greeley Foundation\, explores the art of writing as presented by publishers and writers in the fields of literature\, poetry\, philosophy\, and history.
URL:https://poultneydowntown.com/event/22nd-annual-horace-greeley-writers-symposium/
LOCATION:East Poultney Baptist Church\, 1500 East Main Street\, Poultney\, VT\, 05764\, United States
ATTACH;FMTTYPE=image/jpeg:https://poultneydowntown.com/wp-content/uploads/2024/10/horace-greeley.jpeg
GEO:43.5255713;-73.2056767
X-APPLE-STRUCTURED-LOCATION;VALUE=URI;X-ADDRESS=East Poultney Baptist Church 1500 East Main Street Poultney VT 05764 United States;X-APPLE-RADIUS=500;X-TITLE=1500 East Main Street:geo:-73.2056767,43.5255713
END:VEVENT
END:VCALENDAR