BEGIN:VCALENDAR
VERSION:2.0
PRODID:-//Poultney Downtown Revitalization Committee - ECPv6.15.19//NONSGML v1.0//EN
CALSCALE:GREGORIAN
METHOD:PUBLISH
X-WR-CALNAME:Poultney Downtown Revitalization Committee
X-ORIGINAL-URL:https://poultneydowntown.com
X-WR-CALDESC:Events for Poultney Downtown Revitalization Committee
REFRESH-INTERVAL;VALUE=DURATION:PT1H
X-Robots-Tag:noindex
X-PUBLISHED-TTL:PT1H
BEGIN:VTIMEZONE
TZID:America/New_York
BEGIN:DAYLIGHT
TZOFFSETFROM:-0500
TZOFFSETTO:-0400
TZNAME:EDT
DTSTART:20230312T070000
END:DAYLIGHT
BEGIN:STANDARD
TZOFFSETFROM:-0400
TZOFFSETTO:-0500
TZNAME:EST
DTSTART:20231105T060000
END:STANDARD
BEGIN:DAYLIGHT
TZOFFSETFROM:-0500
TZOFFSETTO:-0400
TZNAME:EDT
DTSTART:20240310T070000
END:DAYLIGHT
BEGIN:STANDARD
TZOFFSETFROM:-0400
TZOFFSETTO:-0500
TZNAME:EST
DTSTART:20241103T060000
END:STANDARD
BEGIN:DAYLIGHT
TZOFFSETFROM:-0500
TZOFFSETTO:-0400
TZNAME:EDT
DTSTART:20250309T070000
END:DAYLIGHT
BEGIN:STANDARD
TZOFFSETFROM:-0400
TZOFFSETTO:-0500
TZNAME:EST
DTSTART:20251102T060000
END:STANDARD
END:VTIMEZONE
BEGIN:VEVENT
DTSTART;VALUE=DATE:20241213
DTEND;VALUE=DATE:20241216
DTSTAMP:20260424T170051
CREATED:20241115T133618Z
LAST-MODIFIED:20241115T133618Z
UID:10000028-1734048000-1734307199@poultneydowntown.com
SUMMARY:A Christmas Carol - PHS Drama
DESCRIPTION:The Poultney High School Drama Club presents:\nA Christmas Carol\nFollow Ebenezer Scrooge’s journey of redemption as he’s visited by three spirits on Christmas Eve. This timeless story is sure to fill you with the holiday spirit. \nShow Dates: Friday and Saturday – December 13th & 14th\, as well as a matinee on Sunday\, December 15th\nTimes: Friday 13th/Saturday 14th @ 6:30pm (*doors open at 6pm). Sunday 15th @ 1pm (*doors open at 12:30pm)\nTickets: Adults – $10.00     Students $5.00     Children 3 and under – Free \nDon’t miss this unforgettable holiday experience!
URL:https://poultneydowntown.com/event/a-christmas-carol/
LOCATION:Poultney High School\, 154 East Main Street\, Poultney\, VT\, 05764\, United States
CATEGORIES:Holidays
ATTACH;FMTTYPE=image/png:https://poultneydowntown.com/wp-content/uploads/2024/11/AChristmasCarol.png
GEO:43.5167564;-73.2289855
X-APPLE-STRUCTURED-LOCATION;VALUE=URI;X-ADDRESS=Poultney High School 154 East Main Street Poultney VT 05764 United States;X-APPLE-RADIUS=500;X-TITLE=154 East Main Street:geo:-73.2289855,43.5167564
END:VEVENT
BEGIN:VEVENT
DTSTART;TZID=America/New_York:20241130T090000
DTEND;TZID=America/New_York:20241130T150000
DTSTAMP:20260424T170051
CREATED:20241007T133508Z
LAST-MODIFIED:20241028T144942Z
UID:10000006-1732957200-1732978800@poultneydowntown.com
SUMMARY:Lakes Region Farmers Market Christmas Show
DESCRIPTION:Shop local for the holidays! Local artists\, crafters\, and farmers gather for one day at Poultney High School for this festive market! \nVendor Sign up and more details email Lakes Region Farmers Market at lakesregionfarmersmarket@gmail.com.
URL:https://poultneydowntown.com/event/lakes-region-farmers-market-christmas-show/
LOCATION:Poultney High School\, 154 East Main Street\, Poultney\, VT\, 05764\, United States
CATEGORIES:Holidays
ATTACH;FMTTYPE=image/jpeg:https://poultneydowntown.com/wp-content/uploads/2024/10/holidayfair.jpg
ORGANIZER;CN="Lakes Region Farmer's Market":MAILTO:Lakesregionfarmersmarket@gmail.com
GEO:43.5167564;-73.2289855
X-APPLE-STRUCTURED-LOCATION;VALUE=URI;X-ADDRESS=Poultney High School 154 East Main Street Poultney VT 05764 United States;X-APPLE-RADIUS=500;X-TITLE=154 East Main Street:geo:-73.2289855,43.5167564
END:VEVENT
END:VCALENDAR