BEGIN:VCALENDAR
VERSION:2.0
PRODID:-//Poultney Downtown Revitalization Committee - ECPv6.15.19//NONSGML v1.0//EN
CALSCALE:GREGORIAN
METHOD:PUBLISH
X-WR-CALNAME:Poultney Downtown Revitalization Committee
X-ORIGINAL-URL:https://poultneydowntown.com
X-WR-CALDESC:Events for Poultney Downtown Revitalization Committee
REFRESH-INTERVAL;VALUE=DURATION:PT1H
X-Robots-Tag:noindex
X-PUBLISHED-TTL:PT1H
BEGIN:VTIMEZONE
TZID:America/New_York
BEGIN:DAYLIGHT
TZOFFSETFROM:-0500
TZOFFSETTO:-0400
TZNAME:EDT
DTSTART:20230312T070000
END:DAYLIGHT
BEGIN:STANDARD
TZOFFSETFROM:-0400
TZOFFSETTO:-0500
TZNAME:EST
DTSTART:20231105T060000
END:STANDARD
BEGIN:DAYLIGHT
TZOFFSETFROM:-0500
TZOFFSETTO:-0400
TZNAME:EDT
DTSTART:20240310T070000
END:DAYLIGHT
BEGIN:STANDARD
TZOFFSETFROM:-0400
TZOFFSETTO:-0500
TZNAME:EST
DTSTART:20241103T060000
END:STANDARD
BEGIN:DAYLIGHT
TZOFFSETFROM:-0500
TZOFFSETTO:-0400
TZNAME:EDT
DTSTART:20250309T070000
END:DAYLIGHT
BEGIN:STANDARD
TZOFFSETFROM:-0400
TZOFFSETTO:-0500
TZNAME:EST
DTSTART:20251102T060000
END:STANDARD
BEGIN:DAYLIGHT
TZOFFSETFROM:-0500
TZOFFSETTO:-0400
TZNAME:EDT
DTSTART:20260308T070000
END:DAYLIGHT
BEGIN:STANDARD
TZOFFSETFROM:-0400
TZOFFSETTO:-0500
TZNAME:EST
DTSTART:20261101T060000
END:STANDARD
BEGIN:DAYLIGHT
TZOFFSETFROM:-0500
TZOFFSETTO:-0400
TZNAME:EDT
DTSTART:20270314T070000
END:DAYLIGHT
BEGIN:STANDARD
TZOFFSETFROM:-0400
TZOFFSETTO:-0500
TZNAME:EST
DTSTART:20271107T060000
END:STANDARD
END:VTIMEZONE
BEGIN:VEVENT
DTSTART;TZID=America/New_York:20260321T090000
DTEND;TZID=America/New_York:20260321T150000
DTSTAMP:20260424T170124
CREATED:20260318T201806Z
LAST-MODIFIED:20260318T202453Z
UID:10000058-1774083600-1774105200@poultneydowntown.com
SUMMARY:Bake Sale & Raffle Tickets for PES at Poultney Library
DESCRIPTION:This Saturday during MapleFest come support the PES 6th grade class trip & graduation. Baked goods & hot cocoa will be for sale outside the library from 9-3. Also grab raffle tickets for a 2 hour pool party at Castleton’s pool!! (drawing April 1st)
URL:https://poultneydowntown.com/event/bake-sale-raffle-tickets-for-pes-at-poultney-library/
LOCATION:Poultney Public Library\, 205 Main Street\, Poultney\, VT\, 05764\, United States
CATEGORIES:2026 MapleFest,Events
ATTACH;FMTTYPE=image/png:https://poultneydowntown.com/wp-content/uploads/2026/03/BakeSale.png
ORGANIZER;CN="Poultney Public Library":MAILTO:ppl5556@yahoo.com
GEO:43.5167484;-73.2369438
X-APPLE-STRUCTURED-LOCATION;VALUE=URI;X-ADDRESS=Poultney Public Library 205 Main Street Poultney VT 05764 United States;X-APPLE-RADIUS=500;X-TITLE=205 Main Street:geo:-73.2369438,43.5167484
END:VEVENT
BEGIN:VEVENT
DTSTART;TZID=America/New_York:20250306T173000
DTEND;TZID=America/New_York:20250306T193000
DTSTAMP:20260424T170124
CREATED:20250204T153349Z
LAST-MODIFIED:20250303T160220Z
UID:10000036-1741282200-1741289400@poultneydowntown.com
SUMMARY:Building Our Future Together: A Public Discussion of Community Trusts
DESCRIPTION:What if we had a dedicated resource to support the projects that matter most to us in Poultney? Let’s explore the possibility of creating a Community Trust! Join us for a public meeting on Thursday\, March 6th at 5:30pm at Poultney Public Library to learn how these organizations work and if it is a good fit for our our region. Your input is crucial!\n\n\n\nRSVP to projects@poutlneydowntown.com
URL:https://poultneydowntown.com/event/building-our-future-together-a-public-discussion-of-community-trusts/
LOCATION:Poultney Public Library\, 205 Main Street\, Poultney\, VT\, 05764\, United States
ORGANIZER;CN="PDRC":MAILTO:projects@poultneydowntown.com
GEO:43.5167484;-73.2369438
X-APPLE-STRUCTURED-LOCATION;VALUE=URI;X-ADDRESS=Poultney Public Library 205 Main Street Poultney VT 05764 United States;X-APPLE-RADIUS=500;X-TITLE=205 Main Street:geo:-73.2369438,43.5167484
END:VEVENT
BEGIN:VEVENT
DTSTART;TZID=America/New_York:20241210T160000
DTEND;TZID=America/New_York:20241210T190000
DTSTAMP:20260424T170124
CREATED:20241007T134516Z
LAST-MODIFIED:20241028T145347Z
UID:10000007-1733846400-1733857200@poultneydowntown.com
SUMMARY:Holiday Craft Night
DESCRIPTION:Join us for a night of crafts and fun! Contact the library for more information.
URL:https://poultneydowntown.com/event/holiday-craft-night/
LOCATION:Poultney Public Library\, 205 Main Street\, Poultney\, VT\, 05764\, United States
CATEGORIES:Holidays
ATTACH;FMTTYPE=image/png:https://poultneydowntown.com/wp-content/uploads/2024/10/Screenshot-2024-10-25-at-9.23.05 AM.png
ORGANIZER;CN="Poultney Public Library":MAILTO:ppl5556@yahoo.com
GEO:43.5167484;-73.2369438
X-APPLE-STRUCTURED-LOCATION;VALUE=URI;X-ADDRESS=Poultney Public Library 205 Main Street Poultney VT 05764 United States;X-APPLE-RADIUS=500;X-TITLE=205 Main Street:geo:-73.2369438,43.5167484
END:VEVENT
BEGIN:VEVENT
DTSTART;TZID=America/New_York:20241207T180000
DTEND;TZID=America/New_York:20241207T190000
DTSTAMP:20260424T170124
CREATED:20240930T203059Z
LAST-MODIFIED:20241007T134215Z
UID:10000001-1733594400-1733598000@poultneydowntown.com
SUMMARY:Story Time with Santa & Tree Lighting
DESCRIPTION:Santa Claus will be coming to Poultney! This annual event starts with a special Santa Story Time at the Poultney Public Library at 6pm. Santa will arrive in front of the library atop a Poultney Fire Dept. truck at 6:30pm. Children will march down Main St. to the Poultney Town Office where Santa will light the memory lights on the town tree. Library staff and volunteers will hand out free cookies and cocoa. Children will also have a chance to meet Santa Claus himself and let him know if they should be on the nice list!
URL:https://poultneydowntown.com/event/story-time-with-santa/
LOCATION:Poultney Public Library\, 205 Main Street\, Poultney\, VT\, 05764\, United States
CATEGORIES:Holidays
ATTACH;FMTTYPE=image/jpeg:https://poultneydowntown.com/wp-content/uploads/2024/09/Santa-Claus-e1728069145689.jpg
ORGANIZER;CN="Poultney Public Library":MAILTO:ppl5556@yahoo.com
GEO:43.5167484;-73.2369438
X-APPLE-STRUCTURED-LOCATION;VALUE=URI;X-ADDRESS=Poultney Public Library 205 Main Street Poultney VT 05764 United States;X-APPLE-RADIUS=500;X-TITLE=205 Main Street:geo:-73.2369438,43.5167484
END:VEVENT
BEGIN:VEVENT
DTSTART;VALUE=DATE:20241101
DTEND;VALUE=DATE:20241125
DTSTAMP:20260424T170124
CREATED:20241112T132646Z
LAST-MODIFIED:20241115T124132Z
UID:10000023-1730419200-1732492799@poultneydowntown.com
SUMMARY:Winter Wardrobe Donations!
DESCRIPTION:Your past generosity and kindness is humbly requested once again by donating WINTER WEATHER WEAR! \nDrop off your gently used \nHATS  ✪  COATS  ✪  GLOVES  ✪  MITTENS  ✪  BOOTS  ✪  SNOW PANTS  ✪  SWEATERS \nAt the Poultney Public Library or the Original Vermont Store \nCash donations are gladly accepted! \nCLICK HERE FOR MORE INFO!
URL:https://poultneydowntown.com/event/winter-wardrobe-donations/
LOCATION:The Original Vermont Store\, 163 Main Street\, Poultney\, VT\, 05764\, United States
CATEGORIES:Holidays
ATTACH;FMTTYPE=image/png:https://poultneydowntown.com/wp-content/uploads/2024/11/Winter.png
GEO:43.5168219;-73.2361049
X-APPLE-STRUCTURED-LOCATION;VALUE=URI;X-ADDRESS=The Original Vermont Store 163 Main Street Poultney VT 05764 United States;X-APPLE-RADIUS=500;X-TITLE=163 Main Street:geo:-73.2361049,43.5168219
END:VEVENT
BEGIN:VEVENT
DTSTART;TZID=America/New_York:20241026T100000
DTEND;TZID=America/New_York:20241026T103000
DTSTAMP:20260424T170124
CREATED:20241007T124307Z
LAST-MODIFIED:20241007T130551Z
UID:10000005-1729936800-1729938600@poultneydowntown.com
SUMMARY:.5k Dash for Donuts
DESCRIPTION:Join us for Poultney Public Library’s 3rd annual “race” fundraiser! The Dash for the Donuts is a .5k race (yes\, ½ kilometer) for people who don’t run. The route starts in front of Poultney High School and ends in front of Poultney Public Library. \nRegistration is $10 for adults and $5 for youth (under 18). Registration forms are available at the library.
URL:https://poultneydowntown.com/event/5k-dash-for-don/
LOCATION:Poultney Public Library\, 205 Main Street\, Poultney\, VT\, 05764\, United States
CATEGORIES:Holidays
ATTACH;FMTTYPE=image/jpeg:https://poultneydowntown.com/wp-content/uploads/2024/10/dashfordonuts.jpg
ORGANIZER;CN="Poultney Public Library":MAILTO:ppl5556@yahoo.com
GEO:43.5167484;-73.2369438
X-APPLE-STRUCTURED-LOCATION;VALUE=URI;X-ADDRESS=Poultney Public Library 205 Main Street Poultney VT 05764 United States;X-APPLE-RADIUS=500;X-TITLE=205 Main Street:geo:-73.2369438,43.5167484
END:VEVENT
BEGIN:VEVENT
DTSTART;TZID=America/New_York:20241025T170000
DTEND;TZID=America/New_York:20241025T190000
DTSTAMP:20260424T170124
CREATED:20241007T123618Z
LAST-MODIFIED:20241007T130735Z
UID:10000004-1729875600-1729882800@poultneydowntown.com
SUMMARY:Trick or Treat Main Street- A costumed story walk with treats
DESCRIPTION:Join Poultney Public Library for Trick or Treat Main Street: Start at the library and read our special spooky story up and down Main St\, collecting a treat or prize at each stop. End at the library for yummy snacks. Note: This is a library event and regular trick or treating is still on Halloween as always. \n 
URL:https://poultneydowntown.com/event/trick-or-treat-main-street-a-costumed-story-walk-with-treats/
LOCATION:Poultney Public Library\, 205 Main Street\, Poultney\, VT\, 05764\, United States
CATEGORIES:Holidays
ATTACH;FMTTYPE=image/jpeg:https://poultneydowntown.com/wp-content/uploads/2024/10/mainstrickortreat.jpg
ORGANIZER;CN="Poultney Public Library":MAILTO:ppl5556@yahoo.com
GEO:43.5167484;-73.2369438
X-APPLE-STRUCTURED-LOCATION;VALUE=URI;X-ADDRESS=Poultney Public Library 205 Main Street Poultney VT 05764 United States;X-APPLE-RADIUS=500;X-TITLE=205 Main Street:geo:-73.2369438,43.5167484
END:VEVENT
END:VCALENDAR