BEGIN:VCALENDAR
VERSION:2.0
PRODID:-//Poultney Downtown Revitalization Committee - ECPv6.15.19//NONSGML v1.0//EN
CALSCALE:GREGORIAN
METHOD:PUBLISH
X-ORIGINAL-URL:https://poultneydowntown.com
X-WR-CALDESC:Events for Poultney Downtown Revitalization Committee
REFRESH-INTERVAL;VALUE=DURATION:PT1H
X-Robots-Tag:noindex
X-PUBLISHED-TTL:PT1H
BEGIN:VTIMEZONE
TZID:America/New_York
BEGIN:DAYLIGHT
TZOFFSETFROM:-0500
TZOFFSETTO:-0400
TZNAME:EDT
DTSTART:20230312T070000
END:DAYLIGHT
BEGIN:STANDARD
TZOFFSETFROM:-0400
TZOFFSETTO:-0500
TZNAME:EST
DTSTART:20231105T060000
END:STANDARD
BEGIN:DAYLIGHT
TZOFFSETFROM:-0500
TZOFFSETTO:-0400
TZNAME:EDT
DTSTART:20240310T070000
END:DAYLIGHT
BEGIN:STANDARD
TZOFFSETFROM:-0400
TZOFFSETTO:-0500
TZNAME:EST
DTSTART:20241103T060000
END:STANDARD
BEGIN:DAYLIGHT
TZOFFSETFROM:-0500
TZOFFSETTO:-0400
TZNAME:EDT
DTSTART:20250309T070000
END:DAYLIGHT
BEGIN:STANDARD
TZOFFSETFROM:-0400
TZOFFSETTO:-0500
TZNAME:EST
DTSTART:20251102T060000
END:STANDARD
END:VTIMEZONE
BEGIN:VEVENT
DTSTART;TZID=America/New_York:20241207T090000
DTEND;TZID=America/New_York:20241207T150000
DTSTAMP:20260424T170304
CREATED:20241112T155737Z
LAST-MODIFIED:20241112T155737Z
UID:10000026-1733562000-1733583600@poultneydowntown.com
SUMMARY:St. Mary's Bazaar
DESCRIPTION:Join us on December 6th from 3pm to 6pm or on December 7th from 9am to 3pm! There will be food tables\, Trash and Treasure\, vendors as well as supper or lunch from our kitchen. We’ll have a traditional raffle\, a basket raffle and a 50/50 – drawings will be at 2pm on Saturday December 7th. \nThis event will benefit OLSD\, Fair Haven. For vendor information\, please contact Claudia Stacey – (802) 265-8049
URL:https://poultneydowntown.com/event/st-marys-bazaar-2/
LOCATION:St. Raphael’s Parish Hall\, 21 East Main Street\, Poultney\, VT\, 05764\, United States
CATEGORIES:Holidays
ATTACH;FMTTYPE=image/jpeg:https://poultneydowntown.com/wp-content/uploads/2024/11/StMarysBazaar.jpeg
GEO:43.5171694;-73.2322662
X-APPLE-STRUCTURED-LOCATION;VALUE=URI;X-ADDRESS=St. Raphael’s Parish Hall 21 East Main Street Poultney VT 05764 United States;X-APPLE-RADIUS=500;X-TITLE=21 East Main Street:geo:-73.2322662,43.5171694
END:VEVENT
BEGIN:VEVENT
DTSTART;TZID=America/New_York:20241206T150000
DTEND;TZID=America/New_York:20241206T180000
DTSTAMP:20260424T170304
CREATED:20241112T155348Z
LAST-MODIFIED:20241112T155759Z
UID:10000025-1733497200-1733508000@poultneydowntown.com
SUMMARY:St. Mary's Bazaar
DESCRIPTION:Join us on December 6th from 3pm to 6pm or on December 7th from 9am to 3pm! There will be food tables\, Trash and Treasure\, vendors as well as supper or lunch from our kitchen. We’ll have a traditional raffle\, a basket raffle and a 50/50 – drawings will be at 2pm on Saturday December 7th. \nThis event will benefit OLSD\, Fair Haven. For vendor information\, please contact Claudia Stacey – (802) 265-8049
URL:https://poultneydowntown.com/event/st-marys-bazaar/
LOCATION:St. Raphael’s Parish Hall\, 21 East Main Street\, Poultney\, VT\, 05764\, United States
CATEGORIES:Holidays
ATTACH;FMTTYPE=image/jpeg:https://poultneydowntown.com/wp-content/uploads/2024/11/StMarysBazaar.jpeg
GEO:43.5171694;-73.2322662
X-APPLE-STRUCTURED-LOCATION;VALUE=URI;X-ADDRESS=St. Raphael’s Parish Hall 21 East Main Street Poultney VT 05764 United States;X-APPLE-RADIUS=500;X-TITLE=21 East Main Street:geo:-73.2322662,43.5171694
END:VEVENT
BEGIN:VEVENT
DTSTART;TZID=America/New_York:20241123T090000
DTEND;TZID=America/New_York:20241123T130000
DTSTAMP:20260424T170304
CREATED:20241105T182858Z
LAST-MODIFIED:20241106T144610Z
UID:10000014-1732352400-1732366800@poultneydowntown.com
SUMMARY:Christmas Bazaar
DESCRIPTION:2024 Christmas Bazaar \n\nSponsored by: St. Raphael & St. John the Baptist Churches\nActivities: Raffles\, White Elephant Table\, Bake Sale\, & Basket Raffle\nDate & Time:\n\nFriday\, November 22nd\,  11am – 6pm\nSaturday\, November 23rd\, 9am – 1pm\nDon’t forget: Basket Raffle tickets will be drawn at 1:00pm on Saturday\, November 23rd.  You must be present to win. \nSupper available on Friday evening and luncheon on Saturday\n\n\n\nThis event is Handicap accessible.
URL:https://poultneydowntown.com/event/chirstmas-bazaar-2-2/
LOCATION:St. Raphael’s Parish Hall\, 21 East Main Street\, Poultney\, VT\, 05764\, United States
CATEGORIES:Holidays
ATTACH;FMTTYPE=image/png:https://poultneydowntown.com/wp-content/uploads/2024/11/Screenshot-2024-11-05-at-11.59.08 AM.png
GEO:43.5171694;-73.2322662
X-APPLE-STRUCTURED-LOCATION;VALUE=URI;X-ADDRESS=St. Raphael’s Parish Hall 21 East Main Street Poultney VT 05764 United States;X-APPLE-RADIUS=500;X-TITLE=21 East Main Street:geo:-73.2322662,43.5171694
END:VEVENT
BEGIN:VEVENT
DTSTART;TZID=America/New_York:20241122T110000
DTEND;TZID=America/New_York:20241122T180000
DTSTAMP:20260424T170304
CREATED:20241105T171111Z
LAST-MODIFIED:20241106T144638Z
UID:10000016-1732273200-1732298400@poultneydowntown.com
SUMMARY:Christmas Bazaar
DESCRIPTION:2024 Christmas Bazaar \n\nSponsored by: St. Raphael & St. John the Baptist Churches\nActivities: Raffles\, White Elephant Table\, Bake Sale\, & Basket Raffle\nDate & Time:\n\nFriday\, November 22nd\,  11am – 6pm\nSaturday\, November 23rd\, 9am – 1pm\nDon’t forget: Basket Raffle tickets will be drawn at 1:00pm on Saturday\, November 23rd.  You must be present to win. \nSupper available on Friday evening and luncheon on Saturday\n\n\n\nThis event is Handicap accessible.
URL:https://poultneydowntown.com/event/chirstmas-bazaar/
LOCATION:St. Raphael’s Parish Hall\, 21 East Main Street\, Poultney\, VT\, 05764\, United States
CATEGORIES:Holidays
ATTACH;FMTTYPE=image/png:https://poultneydowntown.com/wp-content/uploads/2024/11/Screenshot-2024-11-05-at-11.59.08 AM.png
GEO:43.5171694;-73.2322662
X-APPLE-STRUCTURED-LOCATION;VALUE=URI;X-ADDRESS=St. Raphael’s Parish Hall 21 East Main Street Poultney VT 05764 United States;X-APPLE-RADIUS=500;X-TITLE=21 East Main Street:geo:-73.2322662,43.5171694
END:VEVENT
END:VCALENDAR